BEGIN:VCALENDAR
VERSION:2.0
PRODID:-//Lancaster County Bird Club - ECPv6.15.20//NONSGML v1.0//EN
CALSCALE:GREGORIAN
METHOD:PUBLISH
X-WR-CALNAME:Lancaster County Bird Club
X-ORIGINAL-URL:https://lancasterbirdclub.org
X-WR-CALDESC:Events for Lancaster County Bird Club
REFRESH-INTERVAL;VALUE=DURATION:PT1H
X-Robots-Tag:noindex
X-PUBLISHED-TTL:PT1H
BEGIN:VTIMEZONE
TZID:America/New_York
BEGIN:DAYLIGHT
TZOFFSETFROM:-0500
TZOFFSETTO:-0400
TZNAME:EDT
DTSTART:20250309T070000
END:DAYLIGHT
BEGIN:STANDARD
TZOFFSETFROM:-0400
TZOFFSETTO:-0500
TZNAME:EST
DTSTART:20251102T060000
END:STANDARD
BEGIN:DAYLIGHT
TZOFFSETFROM:-0500
TZOFFSETTO:-0400
TZNAME:EDT
DTSTART:20260308T070000
END:DAYLIGHT
BEGIN:STANDARD
TZOFFSETFROM:-0400
TZOFFSETTO:-0500
TZNAME:EST
DTSTART:20261101T060000
END:STANDARD
BEGIN:DAYLIGHT
TZOFFSETFROM:-0500
TZOFFSETTO:-0400
TZNAME:EDT
DTSTART:20270314T070000
END:DAYLIGHT
BEGIN:STANDARD
TZOFFSETFROM:-0400
TZOFFSETTO:-0500
TZNAME:EST
DTSTART:20271107T060000
END:STANDARD
END:VTIMEZONE
BEGIN:VEVENT
DTSTART;TZID=America/New_York:20260509T080000
DTEND;TZID=America/New_York:20260509T100000
DTSTAMP:20260422T051048
CREATED:20250405T185348Z
LAST-MODIFIED:20260128T163328Z
UID:2105-1778313600-1778320800@lancasterbirdclub.org
SUMMARY:Beginner Birder Trip to Flory Park
DESCRIPTION:Sarah Gotwols will lead a morning spring migration beginner birder walk along Mill Creek at East Lampeter Township’s Flory Park. Meet the leader at 8 a.m. at the Clark Pavilion. This trip is for all ages and open to anyone who is new to birding or would like to polish their skills. Participants can expect to learn proper use of binoculars\, field guides\, and apps to help hone your bird watching skills. A variety of birds – to include resident and seasonal migrant species – should be expected on the trip. Please bring binoculars if you have them – a limited number of binoculars will also be available to borrow. Contact Sarah (717-940-3804 call/text or email sarahann71880@gmail.com) by 6 p.m. on Friday if you plan to attend. If necessary\, weather-related cancellations will be made the day prior and registered participants will be notified\, walk-ons are also permitted. This event is part of a partnership between Lancaster County Bird Club and East Lampeter Township Recreation. Learn more about Lancaster County Bird Club at www.lancasterbirdclub.org.
URL:https://lancasterbirdclub.org/event/beginner-birder-trip-to-flory-park/
LOCATION:Flory Park (Meet at Clark Pavilion)\, 416 Dohner Rd.\, Lancaster\, PA\, 17602\, United States
CATEGORIES:Beginner Birder Trips
ATTACH;FMTTYPE=image/jpeg:https://lancasterbirdclub.org/wp-content/uploads/2024/04/IMG_0251.jpeg
END:VEVENT
END:VCALENDAR